BEGIN:VCALENDAR
VERSION:2.0
PRODID:-//Expert Analytical Association “Sovereignty” - ECPv6.15.13//NONSGML v1.0//EN
CALSCALE:GREGORIAN
METHOD:PUBLISH
X-WR-CALNAME:Expert Analytical Association “Sovereignty”
X-ORIGINAL-URL:https://sovereignty.com.br
X-WR-CALDESC:Events for Expert Analytical Association “Sovereignty”
REFRESH-INTERVAL;VALUE=DURATION:PT1H
X-Robots-Tag:noindex
X-PUBLISHED-TTL:PT1H
BEGIN:VTIMEZONE
TZID:America/Belem
BEGIN:STANDARD
TZOFFSETFROM:-0300
TZOFFSETTO:-0300
TZNAME:-03
DTSTART:20240101T000000
END:STANDARD
END:VTIMEZONE
BEGIN:VEVENT
DTSTART;TZID=America/Belem:20250719T150000
DTEND;TZID=America/Belem:20250719T170000
DTSTAMP:20260423T044837
CREATED:20250717T140800Z
LAST-MODIFIED:20250717T143016Z
UID:2385-1752937200-1752944400@sovereignty.com.br
SUMMARY:Does Brazil still have a future?
DESCRIPTION:On Saturday (19/07)\, at 3pm\, in São Paulo\, Raphael Machado\, Rubem Gonzalez\, Alexandre Hage and Thales Rufini will give a lecture on the future prospects for our country. \n\n\n\nRua Martins Fontes\, 95\, Jordanópolis\, São Bernardo do Campo\, São Paulo. \n\n\n\nWe invite everyone to come and participate in the event.
URL:https://sovereignty.com.br/event/does-brazil-still-have-a-future/
ATTACH;FMTTYPE=image/jpeg:https://sovereignty.com.br/wp-content/uploads/2025/07/5168231772339678955.jpg
END:VEVENT
BEGIN:VEVENT
DTSTART;TZID=America/Belem:20250620T000000
DTEND;TZID=America/Belem:20250620T235959
DTSTAMP:20260423T044837
CREATED:20250619T200345Z
LAST-MODIFIED:20250620T122634Z
UID:1360-1750377600-1750463999@sovereignty.com.br
SUMMARY:First Conference
DESCRIPTION:On Friday\, June 20th\, the Opening Conference of Association Sovereignty will take place! \nOur expert analysts will provide an in-depth discussion of the main geopolitical events unfolding right now\, with special attention to the developments in the Middle East conflict 🔥 \nThe Conference will be held on Friday at 4:00 PM 🇪🇸 Madrid time (11:00 AM 🇧🇷 Brasília time\, 10:00 AM 🇺🇸 New York time)\, at the Periodista Digital channel on Youtube (https://www.youtube.com/@periodistadigital) \nWe look forward to your support!
URL:https://sovereignty.com.br/event/first-conference/
LOCATION:Presentation\, Online\, Spain
END:VEVENT
END:VCALENDAR